BEGIN:VCALENDAR
VERSION:2.0
PRODID:-//Volleybalvereniging Villaggio Wivoc - ECPv6.15.20//NONSGML v1.0//EN
CALSCALE:GREGORIAN
METHOD:PUBLISH
X-WR-CALNAME:Volleybalvereniging Villaggio Wivoc
X-ORIGINAL-URL:https://wivoc.nl
X-WR-CALDESC:Evenementen voor Volleybalvereniging Villaggio Wivoc
REFRESH-INTERVAL;VALUE=DURATION:PT1H
X-Robots-Tag:noindex
X-PUBLISHED-TTL:PT1H
BEGIN:VTIMEZONE
TZID:Europe/Amsterdam
BEGIN:DAYLIGHT
TZOFFSETFROM:+0100
TZOFFSETTO:+0200
TZNAME:CEST
DTSTART:20160327T010000
END:DAYLIGHT
BEGIN:STANDARD
TZOFFSETFROM:+0200
TZOFFSETTO:+0100
TZNAME:CET
DTSTART:20161030T010000
END:STANDARD
BEGIN:DAYLIGHT
TZOFFSETFROM:+0100
TZOFFSETTO:+0200
TZNAME:CEST
DTSTART:20170326T010000
END:DAYLIGHT
BEGIN:STANDARD
TZOFFSETFROM:+0200
TZOFFSETTO:+0100
TZNAME:CET
DTSTART:20171029T010000
END:STANDARD
BEGIN:DAYLIGHT
TZOFFSETFROM:+0100
TZOFFSETTO:+0200
TZNAME:CEST
DTSTART:20180325T010000
END:DAYLIGHT
BEGIN:STANDARD
TZOFFSETFROM:+0200
TZOFFSETTO:+0100
TZNAME:CET
DTSTART:20181028T010000
END:STANDARD
BEGIN:DAYLIGHT
TZOFFSETFROM:+0100
TZOFFSETTO:+0200
TZNAME:CEST
DTSTART:20190331T010000
END:DAYLIGHT
BEGIN:STANDARD
TZOFFSETFROM:+0200
TZOFFSETTO:+0100
TZNAME:CET
DTSTART:20191027T010000
END:STANDARD
END:VTIMEZONE
BEGIN:VEVENT
DTSTART;TZID=Europe/Amsterdam:20180514T193000
DTEND;TZID=Europe/Amsterdam:20180514T220000
DTSTAMP:20260425T160234
CREATED:20180308T104215Z
LAST-MODIFIED:20180413T121154Z
UID:1814-1526326200-1526335200@wivoc.nl
SUMMARY:Algemene Leden Vergadering
DESCRIPTION:Belangrijke punten welke aan de orde komen zijn: \n\nInvoering nieuwe Europese wet op de privacy\nDe openstaande vacatures\n\nVolledige agenda\n\nOpening door de voorzitter\nMededelingen en ingekomen stukken\nNotulen Algemene Ledenvergadering van 6 november 2017\nVerslag van de commissies over seizoen 2017-2018\n\nJeugd\nRecreanten\nTechnische zaken\nFinanciën\nPR & Sponsoring\n\nBeachvelden zomerseizoen 2018\nStand van zaken AVG en besluiten hierover\nBestuurlijk seizoen 2018-2019 (o.a. aandacht voor de 4 speerpunten)\nBestuursverkiezing\n\nAftredend en niet herkiesbaar alle leden van de TC (tot 1 mei a.s. kunnen kandidaten zich aanmelden voor een functie binnen de TC\, zie brief vanuit de TC)\nBestuur is nog op zoek naar een kandidaat voor PR & Sponsoring\n\nHuldiging mogelijke kampioenen?\nRondvraag\nSluiting
URL:https://wivoc.nl/evenement/algemene-leden-vergadering-voorjaar-2018/
LOCATION:Servicetheater Skopein\, Meddosestraat 4-8\, Winterswijk\, Nederland
ORGANIZER;CN="Volleybalvereniging Skopein Wivoc":MAILTO:info@wivoc.nl
END:VEVENT
BEGIN:VEVENT
DTSTART;TZID=Europe/Amsterdam:20180424T190000
DTEND;TZID=Europe/Amsterdam:20180424T233000
DTSTAMP:20260425T160234
CREATED:20180216T082507Z
LAST-MODIFIED:20180312T130335Z
UID:1780-1524596400-1524612600@wivoc.nl
SUMMARY:Onderling toernooi
DESCRIPTION:Onderling eindtoernooi voor alle Skopein Wivoc leden
URL:https://wivoc.nl/evenement/onderling-toernooi/
LOCATION:Sport- en Turnhal Winterswijk\, Parallelweg 9\, Winterswijk\, Nederland
CATEGORIES:Algemeen,Jeugd,Recreanten
ORGANIZER;CN="Toernooicommissie Skopein Wivoc":MAILTO:toernooicommissie@wivoc.nl
END:VEVENT
BEGIN:VEVENT
DTSTART;TZID=Europe/Amsterdam:20180421T200000
DTEND;TZID=Europe/Amsterdam:20180421T210000
DTSTAMP:20260425T160234
CREATED:20171207T135751Z
LAST-MODIFIED:20171207T140413Z
UID:1570-1524340800-1524344400@wivoc.nl
SUMMARY:Happy Hour
DESCRIPTION:Laatste thuiswedstrijd\, dus tijd voor een feestje!
URL:https://wivoc.nl/evenement/happy-hour-2017-2018/
LOCATION:Sport- en Turnhal Winterswijk\, Parallelweg 9\, Winterswijk\, Nederland
CATEGORIES:Algemeen
ORGANIZER;CN="Volleybalvereniging Skopein Wivoc":MAILTO:info@wivoc.nl
END:VEVENT
BEGIN:VEVENT
DTSTART;VALUE=DATE:20180420
DTEND;VALUE=DATE:20180421
DTSTAMP:20260425T160234
CREATED:20180406T065133Z
LAST-MODIFIED:20180412T104504Z
UID:1891-1524182400-1524268799@wivoc.nl
SUMMARY:Koningsspelen 2018
DESCRIPTION:Het Graafschap College\, opleiding Sport en Bewegen en de gemeente Winterswijk hebben de handen ineen geslagen en organiseren in 2018 samen de Koningsspelen. Een zo breed mogelijk scala aan beweegactiviteiten wordt die dag aangeboden. Iedereen kan deelnemen\, van jong tot oud. Op vrijdag 20 april is het de bedoeling dat heel Winterswijk oranje kleurt en dat zoveel mogelijk mensen in actie komen tijdens deze Koningsspelen. Het evenement vindt plaats op Sportpark Jaspers\, aan de Jaspersweg 5. Er zijn activiteiten van ’s morgens vroeg tot in de avond. De volgende organisaties verlenen hun medewerking aan de Koningsspelen: Penta\, FC Winterswijk\, Skopein Wivoc\, Zwembad Jaspers\, Brichbouw Sportondersteuning\, Wenters Sports Club\, Stichting Welzijn Winterswijk\, Beweeg Wijs en de Buurtsportcoaches van Actief Winterswijk. Ook wij als Skopein Wivoc / Stichting Beachvelden Winterswijk doen mee aan de Koningsspelen. Enkele studenten van het Graafschap College zullen deze activiteiten als Proeve van Bekwaamheid voor ons gaan uitvoeren. Dit is mede mogelijk gemaakt door de contacten welke Wouter Beijers heeft. \nNaast het aanbod van beachvolleybal\, zal ook beachhandbal en het nieuwe beachtrefbal worden aangeboden.
URL:https://wivoc.nl/evenement/koningsspelen-2018/
LOCATION:Beachvelden Winterswijk\, Jaspersweg 7\, Winterswijk\, Nederland
CATEGORIES:Algemeen
END:VEVENT
BEGIN:VEVENT
DTSTART;TZID=Europe/Amsterdam:20180203T183000
DTEND;TZID=Europe/Amsterdam:20180203T230000
DTSTAMP:20260425T160234
CREATED:20171207T140059Z
LAST-MODIFIED:20171207T140059Z
UID:1574-1517682600-1517698800@wivoc.nl
SUMMARY:Dropping
DESCRIPTION:
URL:https://wivoc.nl/evenement/dropping/
LOCATION:Beachvelden Winterswijk\, Jaspersweg 7\, Winterswijk\, Nederland
CATEGORIES:Jeugd
ORGANIZER;CN="Jeugdcommissie Skopein Wivoc":MAILTO:jeugd@wivoc.nl
END:VEVENT
BEGIN:VEVENT
DTSTART;TZID=Europe/Amsterdam:20180121T150000
DTEND;TZID=Europe/Amsterdam:20180121T180000
DTSTAMP:20260425T160234
CREATED:20171207T110617Z
LAST-MODIFIED:20171207T110617Z
UID:1568-1516546800-1516557600@wivoc.nl
SUMMARY:Vrijwilligersmiddag
DESCRIPTION:
URL:https://wivoc.nl/evenement/vrijwilligersmiddag/
LOCATION:Servicetheater Skopein\, Meddosestraat 4-8\, Winterswijk\, Nederland
CATEGORIES:Algemeen
ORGANIZER;CN="Volleybalvereniging Skopein Wivoc":MAILTO:info@wivoc.nl
END:VEVENT
BEGIN:VEVENT
DTSTART;TZID=Europe/Amsterdam:20180108T193000
DTEND;TZID=Europe/Amsterdam:20180108T193000
DTSTAMP:20260425T160234
CREATED:20171212T101725Z
LAST-MODIFIED:20171212T101725Z
UID:1607-1515439800-1515439800@wivoc.nl
SUMMARY:Bestuursvergadering
DESCRIPTION:
URL:https://wivoc.nl/evenement/bestuursvergadering/
LOCATION:Servicetheater Skopein\, Meddosestraat 4-8\, Winterswijk\, Nederland
ORGANIZER;CN="Bestuur Skopein Wivoc":MAILTO:Voorzitter@wivoc.nl
END:VEVENT
BEGIN:VEVENT
DTSTART;TZID=Europe/Amsterdam:20180102T193000
DTEND;TZID=Europe/Amsterdam:20180102T223000
DTSTAMP:20260425T160234
CREATED:20171213T114724Z
LAST-MODIFIED:20180102T100926Z
UID:1613-1514921400-1514932200@wivoc.nl
SUMMARY:Oliebollen / Nieuwjaarstoernooi
DESCRIPTION:Dames en heren teams spelen onderling tegen elkaar
URL:https://wivoc.nl/evenement/oliebollen-nieuwjaarstoernooi/
LOCATION:Sport- en Turnhal Winterswijk\, Parallelweg 9\, Winterswijk\, Nederland
ORGANIZER;CN="Toernooicommissie Skopein Wivoc":MAILTO:toernooicommissie@wivoc.nl
END:VEVENT
BEGIN:VEVENT
DTSTART;TZID=Europe/Amsterdam:20171222T190000
DTEND;TZID=Europe/Amsterdam:20171222T230000
DTSTAMP:20260425T160234
CREATED:20171207T110438Z
LAST-MODIFIED:20171207T110438Z
UID:1566-1513969200-1513983600@wivoc.nl
SUMMARY:Onderling recreantentoernooi
DESCRIPTION:Onderling toernooi van de Skopein Wivoc recreanten. Lekker ballen\, onder het genot van een hapje en een drankje.
URL:https://wivoc.nl/evenement/onderling-recreantentoernooi/
LOCATION:Sport- en Turnhal Winterswijk\, Parallelweg 9\, Winterswijk\, Nederland
CATEGORIES:Recreanten
ORGANIZER;CN="Toernooicommissie Skopein Wivoc":MAILTO:toernooicommissie@wivoc.nl
END:VEVENT
BEGIN:VEVENT
DTSTART;TZID=Europe/Amsterdam:20171106T193000
DTEND;TZID=Europe/Amsterdam:20171106T213000
DTSTAMP:20260425T160234
CREATED:20171027T111722Z
LAST-MODIFIED:20171027T111722Z
UID:1433-1509996600-1510003800@wivoc.nl
SUMMARY:Algemene Ledenvergadering
DESCRIPTION:Agenda\n\nOpening door de voorzitter\nMededelingen en ingekomen stukken\nVerslag van de ledenvergadering van 29 mei 2017\n(te vinden in het menu onder “Media”\, Notulen ledenvergaderingen)\nFinanciën:\n\nJaarrekening 2016-2017\nVerslag van de kascontrolecommissie\nDecharge bestuur\nBenoeming kascontrolecommissie\nBegroting 2017-2018\nFamilieregeling\nSplitsing verenigings- en bondscontributie\nStudentenregeling\n\n\nVisie\, gesprek met de leden en hoe nu verder?\nHuldiging jubilaris\nCommunicatie met de leden\nBestuur:\n\nAftreden voorzitter Geert Beijers (zie rooster van aftreden)\nHerkiesbaar. Kandidaten kunnen zich melden bij het bestuur.\nFunctiebeschrijving Voorzitter\n\nAftreden Robert Bekker\, recreanten\nHerkiesbaar. Kandidaten kunnen zich melden bij het bestuur.\nPR & Sponsor commissie\nKandidaten kunnen zich melden bij het bestuur.\nFunctiebeschrijving PR & Sponsoring\n\nJeugdzaken\nKandidaten kunnen zich melden bij het bestuur.\nFunctiebeschrijving Jeugdzaken\n\n\n\nDossier Beach velden\nRondvraag\nSluiting
URL:https://wivoc.nl/evenement/algemene-ledenvergadering-2017-2018-1/
LOCATION:Servicetheater Skopein\, Meddosestraat 4-8\, Winterswijk\, Nederland
CATEGORIES:Algemeen
ORGANIZER;CN="Volleybalvereniging Skopein Wivoc":MAILTO:info@wivoc.nl
END:VEVENT
BEGIN:VEVENT
DTSTART;TZID=Europe/Amsterdam:20171026T193000
DTEND;TZID=Europe/Amsterdam:20171026T213000
DTSTAMP:20260425T160234
CREATED:20171027T105020Z
LAST-MODIFIED:20171027T110729Z
UID:1423-1509046200-1509053400@wivoc.nl
SUMMARY:TC Ouderbijeenkomst
DESCRIPTION:De trainingen zijn alweer in volle gang\, de Penta trainingen zijn weer van start gegaan en de eerste wedstrijden zijn alweer gespeeld.\nDe TC nodigt daarom alle ouders/verzorgers uit voor de ouderbijeenkomst\, om iedereen weer bij te praten over de wijzigingen en gemaakte keuzes. Hier is uiteraard ook weer ruimte voor vragen en opmerkingen.
URL:https://wivoc.nl/evenement/tc-ouderbijeenkomst-2017-2018-1/
LOCATION:Servicetheater Skopein\, Meddosestraat 4-8\, Winterswijk\, Nederland
CATEGORIES:Jeugd
ORGANIZER;CN="Technische Commissie Skopein Wivoc":MAILTO:tc@wivoc.nl
END:VEVENT
END:VCALENDAR