BEGIN:VCALENDAR
VERSION:2.0
PRODID:-//Volleybalvereniging Villaggio Wivoc - ECPv6.15.20//NONSGML v1.0//EN
CALSCALE:GREGORIAN
METHOD:PUBLISH
X-WR-CALNAME:Volleybalvereniging Villaggio Wivoc
X-ORIGINAL-URL:https://wivoc.nl
X-WR-CALDESC:Evenementen voor Volleybalvereniging Villaggio Wivoc
REFRESH-INTERVAL;VALUE=DURATION:PT1H
X-Robots-Tag:noindex
X-PUBLISHED-TTL:PT1H
BEGIN:VTIMEZONE
TZID:Europe/Amsterdam
BEGIN:DAYLIGHT
TZOFFSETFROM:+0100
TZOFFSETTO:+0200
TZNAME:CEST
DTSTART:20160327T010000
END:DAYLIGHT
BEGIN:STANDARD
TZOFFSETFROM:+0200
TZOFFSETTO:+0100
TZNAME:CET
DTSTART:20161030T010000
END:STANDARD
BEGIN:DAYLIGHT
TZOFFSETFROM:+0100
TZOFFSETTO:+0200
TZNAME:CEST
DTSTART:20170326T010000
END:DAYLIGHT
BEGIN:STANDARD
TZOFFSETFROM:+0200
TZOFFSETTO:+0100
TZNAME:CET
DTSTART:20171029T010000
END:STANDARD
BEGIN:DAYLIGHT
TZOFFSETFROM:+0100
TZOFFSETTO:+0200
TZNAME:CEST
DTSTART:20180325T010000
END:DAYLIGHT
BEGIN:STANDARD
TZOFFSETFROM:+0200
TZOFFSETTO:+0100
TZNAME:CET
DTSTART:20181028T010000
END:STANDARD
END:VTIMEZONE
BEGIN:VEVENT
DTSTART;TZID=Europe/Amsterdam:20171026T193000
DTEND;TZID=Europe/Amsterdam:20171026T213000
DTSTAMP:20260425T173107
CREATED:20171027T105020Z
LAST-MODIFIED:20171027T110729Z
UID:1423-1509046200-1509053400@wivoc.nl
SUMMARY:TC Ouderbijeenkomst
DESCRIPTION:De trainingen zijn alweer in volle gang\, de Penta trainingen zijn weer van start gegaan en de eerste wedstrijden zijn alweer gespeeld.\nDe TC nodigt daarom alle ouders/verzorgers uit voor de ouderbijeenkomst\, om iedereen weer bij te praten over de wijzigingen en gemaakte keuzes. Hier is uiteraard ook weer ruimte voor vragen en opmerkingen.
URL:https://wivoc.nl/evenement/tc-ouderbijeenkomst-2017-2018-1/
LOCATION:Servicetheater Skopein\, Meddosestraat 4-8\, Winterswijk\, Nederland
CATEGORIES:Jeugd
ORGANIZER;CN="Technische Commissie Skopein Wivoc":MAILTO:tc@wivoc.nl
END:VEVENT
END:VCALENDAR